BEGIN:VCALENDAR
VERSION:2.0
PRODID:-//RIGHTHERE//CALENDARIZE IT V3.2//EN
BEGIN:VEVENT
UID:4905-events@www.kh.org
DTSTART:20220215T110000Z
DTEND:20220215T120000Z
DTSTAMP:20171227T170622Z
SUMMARY:Mommy and Me: A New Social Hour
RRULE:FREQ=WEEKLY;INTERVAL=1
RDATE;VALUE=PERIOD:20171214T100000/20171214T110000
URL:https://www.kh.org/events/post-partum-support-group/
ORGANIZER;CN=Meghan Smith (208) 625-5086:
END:VEVENT
END:VCALENDAR