BEGIN:VCALENDAR
VERSION:2.0
PRODID:-//RIGHTHERE//CALENDARIZE IT V3.2//EN
BEGIN:VEVENT
UID:1406-events@www.kh.org
DTSTART:20180628T110000Z
DTEND:20180628T120000Z
DTSTAMP:20170217T163841Z
SUMMARY:Cancer Support
RRULE:FREQ=WEEKLY;INTERVAL=1
URL:https://www.kh.org/events/cancer-support/
END:VEVENT
END:VCALENDAR